View In:
ArcGIS JavaScript
ArcGIS Online Map Viewer
ArcGIS Earth
ArcGIS Pro
Service Description:
Map Name: Crook County Imagery 2018
Legend
All Layers and Tables
Layers:
Description:
Service Item Id: 2591d034ca0344678e944fe0af944705
Copyright Text:
Spatial Reference:
2914
(2914)
Single Fused Map Cache: true
Tile Info:
- Height: 256
- Width: 256
- DPI: 96
-
Levels of Detail: 24
-
Level ID: 0
[ Start Tile, End Tile ]
- Resolution: 938781.8314732738
- Scale: 1.0814766698572114E9
-
Level ID: 1
[ Start Tile, End Tile ]
- Resolution: 469390.9157366369
- Scale: 5.407383349286057E8
-
Level ID: 2
[ Start Tile, End Tile ]
- Resolution: 234695.45786831845
- Scale: 2.7036916746430284E8
-
Level ID: 3
[ Start Tile, End Tile ]
- Resolution: 117347.72893415923
- Scale: 1.3518458373215142E8
-
Level ID: 4
[ Start Tile, End Tile ]
- Resolution: 58673.86446707961
- Scale: 6.759229186607571E7
-
Level ID: 5
[ Start Tile, End Tile ]
- Resolution: 29336.932233539806
- Scale: 3.3796145933037855E7
-
Level ID: 6
[ Start Tile, End Tile ]
- Resolution: 14668.466116769903
- Scale: 1.6898072966518927E7
-
Level ID: 7
[ Start Tile, End Tile ]
- Resolution: 7334.233058384952
- Scale: 8449036.483259464
-
Level ID: 8
[ Start Tile, End Tile ]
- Resolution: 3667.116529192476
- Scale: 4224518.241629732
-
Level ID: 9
[ Start Tile, End Tile ]
- Resolution: 1833.558264596238
- Scale: 2112259.120814866
-
Level ID: 10
[ Start Tile, End Tile ]
- Resolution: 916.779132298119
- Scale: 1056129.560407433
-
Level ID: 11
[ Start Tile, End Tile ]
- Resolution: 458.3895661490595
- Scale: 528064.7802037165
-
Level ID: 12
[ Start Tile, End Tile ]
- Resolution: 229.19478307452974
- Scale: 264032.39010185824
-
Level ID: 13
[ Start Tile, End Tile ]
- Resolution: 114.59739153726487
- Scale: 132016.19505092912
-
Level ID: 14
[ Start Tile, End Tile ]
- Resolution: 57.298695768632435
- Scale: 66008.09752546456
-
Level ID: 15
[ Start Tile, End Tile ]
- Resolution: 28.649347884316217
- Scale: 33004.04876273228
-
Level ID: 16
[ Start Tile, End Tile ]
- Resolution: 14.324673942158109
- Scale: 16502.02438136614
-
Level ID: 17
[ Start Tile, End Tile ]
- Resolution: 7.162336971079054
- Scale: 8251.01219068307
-
Level ID: 18
[ Start Tile, End Tile ]
- Resolution: 3.581168485539527
- Scale: 4125.506095341535
-
Level ID: 19
[ Start Tile, End Tile ]
- Resolution: 1.7905842427697636
- Scale: 2062.7530476707675
-
Level ID: 20
[ Start Tile, End Tile ]
- Resolution: 0.8952921213848818
- Scale: 1031.3765238353838
-
Level ID: 21
[ Start Tile, End Tile ]
- Resolution: 0.4476460606924409
- Scale: 515.6882619176919
-
Level ID: 22
[ Start Tile, End Tile ]
- Resolution: 0.22382303034622045
- Scale: 257.84413095884594
-
Level ID: 23
[ Start Tile, End Tile ]
- Resolution: 0.11191151517311022
- Scale: 128.92206547942297
- Format: Mixed
- Compression Quality: 75.0
- Origin: X: -1.1524281458605936E8
Y: 1.1582189730038816E8
- Spatial Reference: 2914
(2914)
Storage Info:
- Storage Format: esriMapCacheStorageModeCompactV2
- Packet Size: 128
Initial Extent:
XMin: 4690662.3303536745
YMin: 718055.7778557283
XMax: 5210896.521323302
YMax: 1097009.293893549
Spatial Reference: 2914
(2914)
Full Extent:
XMin: 4754401.506014262
YMin: 735280.9376756293
XMax: 5147157.345662714
YMax: 1079784.134073648
Spatial Reference: 2914
(2914)
Units: esriFeet
Supported Image Format Types: PNG32,PNG24,PNG,JPG,DIB,TIFF,EMF,PS,PDF,GIF,SVG,SVGZ,BMP
Document Info:
Title: Map1
Author:
Comments:
Subject:
Category:
Keywords:
AntialiasingMode: Fast
TextAntialiasingMode: Force
Supports Dynamic Layers: false
MaxRecordCount: 1000
MaxImageHeight: 4096
MaxImageWidth: 4096
Supported Query Formats: JSON, geoJSON, PBF
Supports Query Data Elements: true
Min Scale: 1056129.560407433
Max Scale: 33004.04876273228
Min LOD: 10
Max LOD: 15
Supports Datum Transformation: true
Child Resources:
Info
Supported Operations:
QueryLegends
Return Updates