{
 "currentVersion": 11.4,
 "cimVersion": "3.4.0",
 "serviceDescription": "",
 "mapName": "Crook County 2020 Imagery",
 "description": "",
 "copyrightText": "",
 "supportsDynamicLayers": false,
 "layers": [
  {
   "id": 0,
   "name": "2020_NAIP_cache",
   "parentLayerId": -1,
   "defaultVisibility": true,
   "subLayerIds": null,
   "minScale": 0,
   "maxScale": 0,
   "type": "Raster Layer",
   "supportsDynamicLegends": true
  }
 ],
 "tables": [],
 "spatialReference": {
  "wkid": 2914,
  "latestWkid": 2914,
  "xyTolerance": 0.0032808398950131233,
  "zTolerance": 0.001,
  "mTolerance": 0.001,
  "falseX": -115243200,
  "falseY": -97276400,
  "xyUnits": 3048,
  "falseZ": -100000,
  "zUnits": 10000,
  "falseM": -100000,
  "mUnits": 10000
 },
 "singleFusedMapCache": true,
 "tileInfo": {
  "rows": 256,
  "cols": 256,
  "dpi": 96,
  "format": "Mixed",
  "compressionQuality": 75,
  "origin": {
   "x": -1.1524281458605936E8,
   "y": 1.1582189730038816E8
  },
  "spatialReference": {
   "wkid": 2914,
   "latestWkid": 2914,
   "xyTolerance": 0.0032808398950131233,
   "zTolerance": 0.001,
   "mTolerance": 0.001,
   "falseX": -115243200,
   "falseY": -97276400,
   "xyUnits": 3048,
   "falseZ": -100000,
   "zUnits": 10000,
   "falseM": -100000,
   "mUnits": 10000
  },
  "lods": [
   {
    "level": 0,
    "resolution": 938781.8314732738,
    "scale": 1.0814766698572114E9
   },
   {
    "level": 1,
    "resolution": 469390.9157366369,
    "scale": 5.407383349286057E8
   },
   {
    "level": 2,
    "resolution": 234695.45786831845,
    "scale": 2.7036916746430284E8
   },
   {
    "level": 3,
    "resolution": 117347.72893415923,
    "scale": 1.3518458373215142E8
   },
   {
    "level": 4,
    "resolution": 58673.86446707961,
    "scale": 6.759229186607571E7
   },
   {
    "level": 5,
    "resolution": 29336.932233539806,
    "scale": 3.3796145933037855E7
   },
   {
    "level": 6,
    "resolution": 14668.466116769903,
    "scale": 1.6898072966518927E7
   },
   {
    "level": 7,
    "resolution": 7334.233058384952,
    "scale": 8449036.483259464
   },
   {
    "level": 8,
    "resolution": 3667.116529192476,
    "scale": 4224518.241629732
   },
   {
    "level": 9,
    "resolution": 1833.558264596238,
    "scale": 2112259.120814866
   },
   {
    "level": 10,
    "resolution": 916.779132298119,
    "scale": 1056129.560407433
   },
   {
    "level": 11,
    "resolution": 458.3895661490595,
    "scale": 528064.7802037165
   },
   {
    "level": 12,
    "resolution": 229.19478307452974,
    "scale": 264032.39010185824
   },
   {
    "level": 13,
    "resolution": 114.59739153726487,
    "scale": 132016.19505092912
   },
   {
    "level": 14,
    "resolution": 57.298695768632435,
    "scale": 66008.09752546456
   },
   {
    "level": 15,
    "resolution": 28.649347884316217,
    "scale": 33004.04876273228
   },
   {
    "level": 16,
    "resolution": 14.324673942158109,
    "scale": 16502.02438136614
   },
   {
    "level": 17,
    "resolution": 7.162336971079054,
    "scale": 8251.01219068307
   },
   {
    "level": 18,
    "resolution": 3.581168485539527,
    "scale": 4125.506095341535
   },
   {
    "level": 19,
    "resolution": 1.7905842427697636,
    "scale": 2062.7530476707675
   },
   {
    "level": 20,
    "resolution": 0.8952921213848818,
    "scale": 1031.3765238353838
   },
   {
    "level": 21,
    "resolution": 0.4476460606924409,
    "scale": 515.6882619176919
   },
   {
    "level": 22,
    "resolution": 0.22382303034622045,
    "scale": 257.84413095884594
   },
   {
    "level": 23,
    "resolution": 0.11191151517311022,
    "scale": 128.92206547942297
   }
  ]
 },
 "storageInfo": {
  "storageFormat": "esriMapCacheStorageModeCompactV2",
  "packetSize": 128
 },
 "initialExtent": {
  "xmin": 4729420.882652297,
  "ymin": 711207.6663792086,
  "xmax": 5184108.475120493,
  "ymax": 1103697.427802228,
  "spatialReference": {
   "wkid": 2914,
   "latestWkid": 2914,
   "xyTolerance": 0.0032808398950131233,
   "zTolerance": 0.001,
   "mTolerance": 0.001,
   "falseX": -115243200,
   "falseY": -97276400,
   "xyUnits": 3048,
   "falseZ": -100000,
   "zUnits": 10000,
   "falseM": -100000,
   "mUnits": 10000
  }
 },
 "fullExtent": {
  "xmin": 4749121.200111087,
  "ymin": 729291.8319887392,
  "xmax": 5164408.157661703,
  "ymax": 1085613.2621926975,
  "spatialReference": {
   "wkid": 2914,
   "latestWkid": 2914,
   "xyTolerance": 0.0032808398950131233,
   "zTolerance": 0.001,
   "mTolerance": 0.001,
   "falseX": -115243200,
   "falseY": -97276400,
   "xyUnits": 3048,
   "falseZ": -100000,
   "zUnits": 10000,
   "falseM": -100000,
   "mUnits": 10000
  }
 },
 "datesInUnknownTimezone": false,
 "units": "esriFeet",
 "supportedImageFormatTypes": "PNG32,PNG24,PNG,JPG,DIB,TIFF,EMF,PS,PDF,GIF,SVG,SVGZ,BMP",
 "documentInfo": {
  "Title": "Crook County 2020 Imagery",
  "Author": "",
  "Comments": "",
  "Subject": "",
  "Category": "",
  "Version": "3.4.0",
  "AntialiasingMode": "None",
  "TextAntialiasingMode": "Force",
  "Keywords": ""
 },
 "supportsQueryDomains": true,
 "supportedQueryFormats": "JSON, geoJSON, PBF",
 "referenceScale": 0.0,
 "datumTransformations": [
  {
   "geoTransforms": [
    {
     "wkid": 1900,
     "latestWkid": 1900,
     "transformForward": false,
     "name": "NAD_1983_HARN_To_WGS_1984_2"
    }
   ]
  },
  {
   "geoTransforms": [
    {
     "wkid": 1900,
     "latestWkid": 1900,
     "transformForward": true,
     "name": "NAD_1983_HARN_To_WGS_1984_2"
    }
   ]
  }
 ],
 "supportsDatumTransformation": true,
 "archivingInfo": {
  "supportsHistoricMoment": false
 },
 "supportsClipping": true,
 "supportsSpatialFilter": true,
 "supportsTimeRelation": true,
 "supportsQueryDataElements": true,
 "mapUnits": {
  "uwkid": 9002
 },
 "maxSelectionCount": 2000,
 "maxRecordCount": 1000,
 "maxImageHeight": 4096,
 "maxImageWidth": 4096,
 "capabilities": "TilesOnly,Tilemap",
 "minScale": 1056129.560407433,
 "maxScale": 33004.04876273228,
 "exportTilesAllowed": false,
 "maxExportTilesCount": 100000,
 "minLOD": 10,
 "maxLOD": 15,
 "supportedExtensions": "",
 "serviceItemId": "e54b37ffbe174957a782baf1701c5fe5"
}
